BEGIN:VCALENDAR
VERSION:2.0
PRODID:-//IP - ECPv6.3.3//NONSGML v1.0//EN
CALSCALE:GREGORIAN
METHOD:PUBLISH
X-ORIGINAL-URL:https://informatieprofessional.nl
X-WR-CALDESC:Evenementen voor IP
REFRESH-INTERVAL;VALUE=DURATION:PT1H
X-Robots-Tag:noindex
X-PUBLISHED-TTL:PT1H
BEGIN:VTIMEZONE
TZID:Europe/Amsterdam
BEGIN:DAYLIGHT
TZOFFSETFROM:+0100
TZOFFSETTO:+0200
TZNAME:CEST
DTSTART:20240331T010000
END:DAYLIGHT
BEGIN:STANDARD
TZOFFSETFROM:+0200
TZOFFSETTO:+0100
TZNAME:CET
DTSTART:20241027T010000
END:STANDARD
END:VTIMEZONE
BEGIN:VEVENT
DTSTART;TZID=Europe/Amsterdam:20240528T133000
DTEND;TZID=Europe/Amsterdam:20240528T170000
DTSTAMP:20260420T152028
CREATED:20240307T121440Z
LAST-MODIFIED:20240307T121440Z
UID:10000034-1716903000-1716915600@informatieprofessional.nl
SUMMARY:Deel je beeld. IIIF: wat kan je ermee?
DESCRIPTION:Heb je als erfgoedorganisatie een prachtige verzameling gedigitaliseerde schilderijen\, kaarten of andere afbeeldingen? En ben je benieuwd hoe je deze collectie online kunt presenteren\, samenbrengen en verrijken? Het International Image Interoperability Framework (IIIF\, uitgesproken als ‘triple-eye-eff’)\, een standaard voor het delen van beeldmateriaal\, kan je hierbij helpen. Het event is speciaal bedoeld voor erfgoedorganisaties die willen ontdekken wat IIIF voor hen kan betekenen. Er zal een breed scala aan voorbeelden worden gepresenteerd. \nHet event zal plaatsvinden in Amsterdam\, de precieze locatie en het programma worden zo snel mogelijk bekendgemaakt.
URL:https://informatieprofessional.nl/event/deel-je-beeld-iiif-wat-kan-je-ermee/
LOCATION:Amsterdam\, Amsterdam\, Nederland
ATTACH;FMTTYPE=image/jpeg:https://informatieprofessional.nl/resources/uploads/2024/03/deeljebeeld-1080x1080-1.jpg
END:VEVENT
BEGIN:VEVENT
DTSTART;TZID=Europe/Amsterdam:20240521T130000
DTEND;TZID=Europe/Amsterdam:20240521T170000
DTSTAMP:20260420T152028
CREATED:20240417T145813Z
LAST-MODIFIED:20240417T145813Z
UID:10000040-1716296400-1716310800@informatieprofessional.nl
SUMMARY:Why digital heritage does not make us cry yet: meer beleving van digitaal erfgoed via immersieve technologie
DESCRIPTION:Er zijn nog weinig goede voorbeelden van digitaal erfgoed met emotionele impact. Ondertussen ontwikkelt de technologie zich op zo’n manier dat een emotionele respons eenvoudiger kan worden opgewekt – door directer\, interactiever en meeslepender te worden. Reden voor Surf om een verkenningsbijeenkomst te organiseren. \n\n(Beeld: Anne Fehres and Luke Conroy & AI4Media / Better Images of AI / Data is a Mirror of Us / CC-BY 4.0)
URL:https://informatieprofessional.nl/event/why-digital-heritage-does-not-make-us-cry-yet-meer-beleving-van-digitaal-erfgoed-via-immersieve-technologie/
LOCATION:KB\, nationale bibliotheek\, Prins Willem-Alexanderhof 5\, Den Haag\, 2595 BE\, Nederland
ATTACH;FMTTYPE=image/jpeg:https://informatieprofessional.nl/resources/uploads/2024/04/data-is-a-mirror-of-us_cc-by-4.0.jpg
GEO:52.0809988;4.3279921
X-APPLE-STRUCTURED-LOCATION;VALUE=URI;X-ADDRESS=KB nationale bibliotheek Prins Willem-Alexanderhof 5 Den Haag 2595 BE Nederland;X-APPLE-RADIUS=500;X-TITLE=Prins Willem-Alexanderhof 5:geo:4.3279921,52.0809988
END:VEVENT
BEGIN:VEVENT
DTSTART;TZID=Europe/Amsterdam:20240513T150000
DTEND;TZID=Europe/Amsterdam:20240513T160000
DTSTAMP:20260420T152028
CREATED:20240417T081539Z
LAST-MODIFIED:20240417T081634Z
UID:10000037-1715612400-1715616000@informatieprofessional.nl
SUMMARY:Webinar ‘Zo maak je je website groener’
DESCRIPTION:Naar aanleiding van het verkennend onderzoek naar de klimaatimpact van erfgoedwebsites organiseert het NDE op 13 mei (15-16 uur) een webinar. Tijdens deze online bijeenkomst worden niet alleen tips gedeeld\, maar geven ook enkele betrokken organisaties hun reactie op de onderzoeksresultaten. Bovendien wordt de gids 42 tips om je erfgoedwebsite te verduurzamen er gelanceerd.
URL:https://informatieprofessional.nl/event/webinar-zo-maak-je-je-website-groener/
LOCATION:online
ATTACH;FMTTYPE=image/jpeg:https://informatieprofessional.nl/resources/uploads/2024/04/Groene-website.jpg
END:VEVENT
BEGIN:VEVENT
DTSTART;TZID=Europe/Amsterdam:20240423T110000
DTEND;TZID=Europe/Amsterdam:20240423T120000
DTSTAMP:20260420T152028
CREATED:20240417T145254Z
LAST-MODIFIED:20240417T145254Z
UID:10000039-1713870000-1713873600@informatieprofessional.nl
SUMMARY:Gouda Tijdmachine: game on met linked data
DESCRIPTION:Kun je een game maken op basis van linked data? Gouda Tijdmachine bewijst het met een game in wording\, ‘De Tijd Detective’ (werktitel). In een webinar delen de makers de tot nu toe geleerde lessen.
URL:https://informatieprofessional.nl/event/gouda-tijdmachine-game-on-met-linked-data/
LOCATION:online
ATTACH;FMTTYPE=image/jpeg:https://informatieprofessional.nl/resources/uploads/2021/10/Game.jpg
END:VEVENT
END:VCALENDAR