BEGIN:VCALENDAR
VERSION:2.0
PRODID:-//IP - ECPv6.3.3//NONSGML v1.0//EN
CALSCALE:GREGORIAN
METHOD:PUBLISH
X-WR-CALNAME:IP
X-ORIGINAL-URL:https://informatieprofessional.nl
X-WR-CALDESC:Evenementen voor IP
REFRESH-INTERVAL;VALUE=DURATION:PT1H
X-Robots-Tag:noindex
X-PUBLISHED-TTL:PT1H
BEGIN:VTIMEZONE
TZID:Europe/Amsterdam
BEGIN:DAYLIGHT
TZOFFSETFROM:+0100
TZOFFSETTO:+0200
TZNAME:CEST
DTSTART:20240331T010000
END:DAYLIGHT
BEGIN:STANDARD
TZOFFSETFROM:+0200
TZOFFSETTO:+0100
TZNAME:CET
DTSTART:20241027T010000
END:STANDARD
END:VTIMEZONE
BEGIN:VEVENT
DTSTART;TZID=Europe/Amsterdam:20240325T094500
DTEND;TZID=Europe/Amsterdam:20240325T173000
DTSTAMP:20260419T171445
CREATED:20240308T131318Z
LAST-MODIFIED:20240308T131318Z
UID:10000036-1711359900-1711387800@informatieprofessional.nl
SUMMARY:AI en erfgoed
DESCRIPTION:We zien AI steeds meer terug in ons dagelijks werk. Daarom organiseert het Allard Pierson samen met de werkgroep Cultuur en Media van de Nederlandse AI Coalitie (NLAIC) een evenement over AI binnen de erfgoedsector. Het richt zich op de toepassingen van AI binnen de erfgoedsector\, ‘met een inspirerende context en experts op het gebied van AI en erfgoed’\, biedt inzicht in recente ontwikkelingen en betrekt onderzoekers en studenten rond diverse thema’s.
URL:https://informatieprofessional.nl/event/ai-en-erfgoed/
LOCATION:Singelkerk\, Amsterdam
ATTACH;FMTTYPE=image/jpeg:https://informatieprofessional.nl/resources/uploads/2024/03/4386179155a69540fc433a0d769c7627.jpeg
GEO:52.3675734;4.9041389
END:VEVENT
END:VCALENDAR